BEGIN:VCALENDAR
VERSION:2.0
PRODID:-//Kappa Alpha Order - ECPv6.15.20//NONSGML v1.0//EN
CALSCALE:GREGORIAN
METHOD:PUBLISH
X-WR-CALNAME:Kappa Alpha Order
X-ORIGINAL-URL:https://www.kappaalphaorder.org
X-WR-CALDESC:Events for Kappa Alpha Order
REFRESH-INTERVAL;VALUE=DURATION:PT1H
X-Robots-Tag:noindex
X-PUBLISHED-TTL:PT1H
BEGIN:VTIMEZONE
TZID:America/New_York
BEGIN:DAYLIGHT
TZOFFSETFROM:-0500
TZOFFSETTO:-0400
TZNAME:EDT
DTSTART:20240310T070000
END:DAYLIGHT
BEGIN:STANDARD
TZOFFSETFROM:-0400
TZOFFSETTO:-0500
TZNAME:EST
DTSTART:20241103T060000
END:STANDARD
BEGIN:DAYLIGHT
TZOFFSETFROM:-0500
TZOFFSETTO:-0400
TZNAME:EDT
DTSTART:20250309T070000
END:DAYLIGHT
BEGIN:STANDARD
TZOFFSETFROM:-0400
TZOFFSETTO:-0500
TZNAME:EST
DTSTART:20251102T060000
END:STANDARD
BEGIN:DAYLIGHT
TZOFFSETFROM:-0500
TZOFFSETTO:-0400
TZNAME:EDT
DTSTART:20260308T070000
END:DAYLIGHT
BEGIN:STANDARD
TZOFFSETFROM:-0400
TZOFFSETTO:-0500
TZNAME:EST
DTSTART:20261101T060000
END:STANDARD
END:VTIMEZONE
BEGIN:VTIMEZONE
TZID:America/Chicago
BEGIN:DAYLIGHT
TZOFFSETFROM:-0600
TZOFFSETTO:-0500
TZNAME:CDT
DTSTART:20240310T080000
END:DAYLIGHT
BEGIN:STANDARD
TZOFFSETFROM:-0500
TZOFFSETTO:-0600
TZNAME:CST
DTSTART:20241103T070000
END:STANDARD
BEGIN:DAYLIGHT
TZOFFSETFROM:-0600
TZOFFSETTO:-0500
TZNAME:CDT
DTSTART:20250309T080000
END:DAYLIGHT
BEGIN:STANDARD
TZOFFSETFROM:-0500
TZOFFSETTO:-0600
TZNAME:CST
DTSTART:20251102T070000
END:STANDARD
BEGIN:DAYLIGHT
TZOFFSETFROM:-0600
TZOFFSETTO:-0500
TZNAME:CDT
DTSTART:20260308T080000
END:DAYLIGHT
BEGIN:STANDARD
TZOFFSETFROM:-0500
TZOFFSETTO:-0600
TZNAME:CST
DTSTART:20261101T070000
END:STANDARD
END:VTIMEZONE
BEGIN:VEVENT
DTSTART;TZID=America/New_York:20250201T080000
DTEND;TZID=America/New_York:20250201T170000
DTSTAMP:20260421T082431
CREATED:20250103T163039Z
LAST-MODIFIED:20250103T163039Z
UID:10000055-1738396800-1738429200@www.kappaalphaorder.org
SUMMARY:Convivium: Southern Indiana Alumni Chapter - 2025
DESCRIPTION:All Ticket sales will conclude on January 15\, 2025. \nRegister
URL:https://www.kappaalphaorder.org/event/convivium-southern-indiana-alumni-chapter-2025/
LOCATION:Basden’s American RV Center\, 600 E Baseline Road\, Evansville\, IN\, 47725\, United States
CATEGORIES:Convivium,Alumni
ATTACH;FMTTYPE=image/jpeg:https://www.kappaalphaorder.org/wp-content/uploads/2025/01/Southern-Indiana-Convivium-2025-Logo.jpg
END:VEVENT
BEGIN:VEVENT
DTSTART;TZID=America/Chicago:20250201T180000
DTEND;TZID=America/Chicago:20250201T200000
DTSTAMP:20260421T082431
CREATED:20250122T180938Z
LAST-MODIFIED:20250122T180938Z
UID:10000066-1738432800-1738440000@www.kappaalphaorder.org
SUMMARY:Delta State Convivium
DESCRIPTION:Delta Beta Chapter at Delta State University invites you to join them at their first Convivium in over a decade at 6:00pm on Saturday\, February 1st at Delta Arts Alliance (Old Ellis Theatre) in Cleveland\, MS. I’d love for us to support their efforts and have some presence at this event. Please consider attending if you are able. The cost to attend is $50 per person. Dress is formal attire. If you have any questions or would like to RSVP\, please contact Kevin Favela at 601-317-9165.
URL:https://www.kappaalphaorder.org/event/delta-state-convivium/
LOCATION:Delta Arts Alliance\, 104 S Court St\, Cleveland\, Mississippi\, 38732\, United States
CATEGORIES:Convivium,Alumni,Undergraduate
ATTACH;FMTTYPE=image/jpeg:https://www.kappaalphaorder.org/wp-content/uploads/2011/08/KA-Logo_CIRCLE.jpg
END:VEVENT
END:VCALENDAR